Package: mirTarRnaSeq Version: 1.12.0 Command: /home/biocbuild/R/R-beta-2024-04-15_r86425/bin/R CMD INSTALL mirTarRnaSeq StartedAt: 2024-05-08 20:10:25 -0000 (Wed, 08 May 2024) EndedAt: 2024-05-08 20:10:43 -0000 (Wed, 08 May 2024) EllapsedTime: 18.4 seconds RetCode: 0 Status: OK