Package: mirTarRnaSeq Version: 1.12.0 Command: /home/biocbuild/R/R-beta-2024-04-15_r86425/bin/R CMD check --install=check:mirTarRnaSeq.install-out.txt --library=/home/biocbuild/R/R-beta-2024-04-15_r86425/site-library --no-vignettes --timings mirTarRnaSeq_1.12.0.tar.gz StartedAt: 2024-05-09 09:32:30 -0000 (Thu, 09 May 2024) EndedAt: 2024-05-09 09:33:36 -0000 (Thu, 09 May 2024) EllapsedTime: 66.1 seconds RetCode: 0 Status: OK CheckDir: mirTarRnaSeq.Rcheck Warnings: 0