Package: mirTarRnaSeq Version: 1.12.0 Command: /home/biocbuild/R/R-beta-2024-04-15_r86425/bin/R CMD build --keep-empty-dirs --no-resave-data mirTarRnaSeq StartedAt: 2024-05-09 01:43:02 -0000 (Thu, 09 May 2024) EndedAt: 2024-05-09 01:47:16 -0000 (Thu, 09 May 2024) EllapsedTime: 253.3 seconds RetCode: 0 Status: OK PackageFile: mirTarRnaSeq_1.12.0.tar.gz PackageFileSize: 3.41 MiB