Package: mirTarRnaSeq Version: 1.12.0 Command: rm -rf mirTarRnaSeq.buildbin-libdir && mkdir mirTarRnaSeq.buildbin-libdir && /Users/biocbuild/BBS/utils/build-universal.sh mirTarRnaSeq_1.12.0.tar.gz /Library/Frameworks/R.framework/Resources/bin/R mirTarRnaSeq.buildbin-libdir StartedAt: 2024-06-11 12:05:56 -0400 (Tue, 11 Jun 2024) EndedAt: 2024-06-11 12:06:18 -0400 (Tue, 11 Jun 2024) EllapsedTime: 22.5 seconds RetCode: 0 Status: OK PackageFile: mirTarRnaSeq_1.12.0.tgz PackageFileSize: 4.562 MiB