Package: mirTarRnaSeq Version: 1.12.0 Command: /Library/Frameworks/R.framework/Resources/bin/R CMD check --install=check:mirTarRnaSeq.install-out.txt --library=/Library/Frameworks/R.framework/Resources/library --no-vignettes --timings mirTarRnaSeq_1.12.0.tar.gz StartedAt: 2024-10-18 04:19:13 -0400 (Fri, 18 Oct 2024) EndedAt: 2024-10-18 04:20:23 -0400 (Fri, 18 Oct 2024) EllapsedTime: 70.6 seconds RetCode: 0 Status: OK CheckDir: mirTarRnaSeq.Rcheck Warnings: 0