Package: mirTarRnaSeq Version: 1.12.0 Command: /Library/Frameworks/R.framework/Resources/bin/R CMD build --keep-empty-dirs --no-resave-data mirTarRnaSeq StartedAt: 2024-10-17 04:33:38 -0400 (Thu, 17 Oct 2024) EndedAt: 2024-10-17 04:37:17 -0400 (Thu, 17 Oct 2024) EllapsedTime: 218.7 seconds RetCode: 0 Status: OK PackageFile: mirTarRnaSeq_1.12.0.tar.gz PackageFileSize: 3.427 MiB