Package: mirTarRnaSeq Version: 1.12.0 Command: rm -rf mirTarRnaSeq.buildbin-libdir && mkdir mirTarRnaSeq.buildbin-libdir && /Users/biocbuild/BBS/utils/build-universal.sh mirTarRnaSeq_1.12.0.tar.gz /Library/Frameworks/R.framework/Resources/bin/R mirTarRnaSeq.buildbin-libdir StartedAt: 2024-10-18 19:29:11 -0400 (Fri, 18 Oct 2024) EndedAt: 2024-10-18 19:29:27 -0400 (Fri, 18 Oct 2024) EllapsedTime: 16.1 seconds RetCode: 0 Status: OK PackageFile: mirTarRnaSeq_1.12.0.tgz PackageFileSize: 4.535 MiB