Package: mirTarRnaSeq Version: 1.12.0 Maintainer: Mercedeh Movassagh MaintainerEmail: mercedeh at ds.dfci.harvard.edu git_url: https://git.bioconductor.org/packages/mirTarRnaSeq git_branch: RELEASE_3_19 git_last_commit: ae17701 git_last_commit_date: 2024-04-30 11:32:53 -0400 (Tue, 30 Apr 2024)