Package: mirIntegrator Version: 1.34.0 Command: E:\biocbuild\bbs-3.19-bioc\R\bin\R.exe CMD INSTALL mirIntegrator StartedAt: 2024-10-16 16:20:51 -0400 (Wed, 16 Oct 2024) EndedAt: 2024-10-16 16:21:16 -0400 (Wed, 16 Oct 2024) EllapsedTime: 24.2 seconds RetCode: 0 Status: OK