Package: mirIntegrator Version: 1.34.0 Command: chmod a+r mirIntegrator -R && F:\biocbuild\bbs-3.19-bioc\R\bin\R.exe CMD build --keep-empty-dirs --no-resave-data mirIntegrator StartedAt: 2024-06-26 20:05:48 -0400 (Wed, 26 Jun 2024) EndedAt: 2024-06-26 20:07:15 -0400 (Wed, 26 Jun 2024) EllapsedTime: 87.3 seconds RetCode: 0 Status: OK PackageFile: mirIntegrator_1.34.0.tar.gz PackageFileSize: 1.673 MiB