Package: mirIntegrator Version: 1.34.0 Command: rm -rf mirIntegrator.buildbin-libdir && mkdir mirIntegrator.buildbin-libdir && F:\biocbuild\bbs-3.19-bioc\R\bin\R.exe CMD INSTALL --build --library=mirIntegrator.buildbin-libdir mirIntegrator_1.34.0.tar.gz StartedAt: 2024-06-27 08:31:02 -0400 (Thu, 27 Jun 2024) EndedAt: 2024-06-27 08:31:27 -0400 (Thu, 27 Jun 2024) EllapsedTime: 25.0 seconds RetCode: 0 Status: OK PackageFile: mirIntegrator_1.34.0.zip PackageFileSize: 1.713 MiB