Package: mirIntegrator Version: 1.34.0 Command: /home/biocbuild/bbs-3.19-bioc/R/bin/R CMD build --keep-empty-dirs --no-resave-data mirIntegrator StartedAt: 2024-10-16 19:30:47 -0400 (Wed, 16 Oct 2024) EndedAt: 2024-10-16 19:31:56 -0400 (Wed, 16 Oct 2024) EllapsedTime: 69.1 seconds RetCode: 0 Status: OK PackageFile: mirIntegrator_1.34.0.tar.gz PackageFileSize: 1.671 MiB