Package: mirIntegrator Version: 1.34.0 Command: /Library/Frameworks/R.framework/Resources/bin/R CMD build --keep-empty-dirs --no-resave-data mirIntegrator StartedAt: 2024-10-16 20:58:01 -0400 (Wed, 16 Oct 2024) EndedAt: 2024-10-16 21:00:59 -0400 (Wed, 16 Oct 2024) EllapsedTime: 178.0 seconds RetCode: 0 Status: OK PackageFile: mirIntegrator_1.34.0.tar.gz PackageFileSize: 1.808 MiB