Package: mirIntegrator Version: 1.34.0 Command: /Library/Frameworks/R.framework/Resources/bin/R CMD check --install=check:mirIntegrator.install-out.txt --library=/Library/Frameworks/R.framework/Resources/library --no-vignettes --timings mirIntegrator_1.34.0.tar.gz StartedAt: 2024-10-18 04:14:09 -0400 (Fri, 18 Oct 2024) EndedAt: 2024-10-18 04:17:10 -0400 (Fri, 18 Oct 2024) EllapsedTime: 180.6 seconds RetCode: 0 Status: OK CheckDir: mirIntegrator.Rcheck Warnings: 0