Package: minet Version: 3.62.0 Command: rm -rf minet.buildbin-libdir && mkdir minet.buildbin-libdir && E:\biocbuild\bbs-3.19-bioc\R\bin\R.exe CMD INSTALL --build --library=minet.buildbin-libdir minet_3.62.0.tar.gz StartedAt: 2024-10-17 08:08:32 -0400 (Thu, 17 Oct 2024) EndedAt: 2024-10-17 08:08:46 -0400 (Thu, 17 Oct 2024) EllapsedTime: 14.1 seconds RetCode: 0 Status: OK PackageFile: minet_3.62.0.zip PackageFileSize: 142.5 KiB