Package: minet Version: 3.62.0 Command: rm -rf minet.buildbin-libdir && mkdir minet.buildbin-libdir && F:\biocbuild\bbs-3.19-bioc\R\bin\R.exe CMD INSTALL --build --library=minet.buildbin-libdir minet_3.62.0.tar.gz StartedAt: 2024-06-27 08:30:42 -0400 (Thu, 27 Jun 2024) EndedAt: 2024-06-27 08:30:56 -0400 (Thu, 27 Jun 2024) EllapsedTime: 14.0 seconds RetCode: 0 Status: OK PackageFile: minet_3.62.0.zip PackageFileSize: 142.5 KiB