Package: minet Version: 3.62.0 Command: /home/biocbuild/bbs-3.19-bioc/R/bin/R CMD build --keep-empty-dirs --no-resave-data minet StartedAt: 2024-10-16 19:29:17 -0400 (Wed, 16 Oct 2024) EndedAt: 2024-10-16 19:29:18 -0400 (Wed, 16 Oct 2024) EllapsedTime: 1.0 seconds RetCode: 0 Status: OK PackageFile: minet_3.62.0.tar.gz PackageFileSize: 50.13 KiB