Package: minet Version: 3.62.0 Command: /Library/Frameworks/R.framework/Resources/bin/R CMD check --install=check:minet.install-out.txt --library=/Library/Frameworks/R.framework/Resources/library --no-vignettes --timings minet_3.62.0.tar.gz StartedAt: 2024-10-17 08:39:29 -0400 (Thu, 17 Oct 2024) EndedAt: 2024-10-17 08:48:05 -0400 (Thu, 17 Oct 2024) EllapsedTime: 515.4 seconds RetCode: 0 Status: OK CheckDir: minet.Rcheck Warnings: 0