Package: minet Version: 3.62.0 Command: /Library/Frameworks/R.framework/Resources/bin/R CMD build --keep-empty-dirs --no-resave-data minet StartedAt: 2024-10-16 20:54:55 -0400 (Wed, 16 Oct 2024) EndedAt: 2024-10-16 20:54:58 -0400 (Wed, 16 Oct 2024) EllapsedTime: 3.4 seconds RetCode: 0 Status: OK PackageFile: minet_3.62.0.tar.gz PackageFileSize: 50.14 KiB