Package: minet Version: 3.62.0 Command: /Library/Frameworks/R.framework/Resources/bin/R CMD check --install=check:minet.install-out.txt --library=/Library/Frameworks/R.framework/Resources/library --no-vignettes --timings minet_3.62.0.tar.gz StartedAt: 2024-06-09 21:32:53 -0400 (Sun, 09 Jun 2024) EndedAt: 2024-06-09 21:33:21 -0400 (Sun, 09 Jun 2024) EllapsedTime: 27.1 seconds RetCode: 0 Status: OK CheckDir: minet.Rcheck Warnings: 0