Package: minet Version: 3.62.0 Command: /Library/Frameworks/R.framework/Resources/bin/R CMD build --keep-empty-dirs --no-resave-data minet StartedAt: 2024-06-09 17:16:27 -0400 (Sun, 09 Jun 2024) EndedAt: 2024-06-09 17:16:29 -0400 (Sun, 09 Jun 2024) EllapsedTime: 1.2 seconds RetCode: 0 Status: OK PackageFile: minet_3.62.0.tar.gz PackageFileSize: 50.14 KiB