Package: minet Version: 3.62.0 Command: /Library/Frameworks/R.framework/Resources/bin/R CMD INSTALL minet StartedAt: 2024-10-16 18:37:35 -0400 (Wed, 16 Oct 2024) EndedAt: 2024-10-16 18:37:42 -0400 (Wed, 16 Oct 2024) EllapsedTime: 7.1 seconds RetCode: 0 Status: OK