Package: minet Version: 3.62.0 Command: /Library/Frameworks/R.framework/Resources/bin/R CMD check --install=check:minet.install-out.txt --library=/Library/Frameworks/R.framework/Resources/library --no-vignettes --timings minet_3.62.0.tar.gz StartedAt: 2024-10-18 04:10:25 -0400 (Fri, 18 Oct 2024) EndedAt: 2024-10-18 04:10:50 -0400 (Fri, 18 Oct 2024) EllapsedTime: 25.8 seconds RetCode: 0 Status: OK CheckDir: minet.Rcheck Warnings: 0