Package: minet Version: 3.62.0 Command: rm -rf minet.buildbin-libdir && mkdir minet.buildbin-libdir && /Users/biocbuild/BBS/utils/build-universal.sh minet_3.62.0.tar.gz /Library/Frameworks/R.framework/Resources/bin/R minet.buildbin-libdir StartedAt: 2024-10-18 19:27:30 -0400 (Fri, 18 Oct 2024) EndedAt: 2024-10-18 19:27:40 -0400 (Fri, 18 Oct 2024) EllapsedTime: 10.2 seconds RetCode: 0 Status: OK PackageFile: minet_3.62.0.tgz PackageFileSize: 92.82 KiB