Package: mina Version: 1.12.0 Command: F:\biocbuild\bbs-3.19-bioc\R\bin\R.exe CMD INSTALL mina StartedAt: 2024-06-26 16:19:01 -0400 (Wed, 26 Jun 2024) EndedAt: 2024-06-26 16:20:02 -0400 (Wed, 26 Jun 2024) EllapsedTime: 61.4 seconds RetCode: 0 Status: OK