Package: miloR Version: 2.0.0 Command: E:\biocbuild\bbs-3.19-bioc\R\bin\R.exe CMD INSTALL miloR StartedAt: 2024-10-16 17:12:39 -0400 (Wed, 16 Oct 2024) EndedAt: 2024-10-16 17:15:03 -0400 (Wed, 16 Oct 2024) EllapsedTime: 143.7 seconds RetCode: 0 Status: OK