Package: miloR Version: 2.0.0 Command: chmod a+r miloR -R && E:\biocbuild\bbs-3.19-bioc\R\bin\R.exe CMD build --keep-empty-dirs --no-resave-data miloR StartedAt: 2024-10-16 20:18:28 -0400 (Wed, 16 Oct 2024) EndedAt: 2024-10-16 20:46:31 -0400 (Wed, 16 Oct 2024) EllapsedTime: 1682.9 seconds RetCode: 0 Status: OK PackageFile: miloR_2.0.0.tar.gz PackageFileSize: 5.958 MiB