Package: miloR Version: 2.0.0 Command: rm -rf miloR.buildbin-libdir && mkdir miloR.buildbin-libdir && E:\biocbuild\bbs-3.19-bioc\R\bin\R.exe CMD INSTALL --build --library=miloR.buildbin-libdir miloR_2.0.0.tar.gz StartedAt: 2024-10-17 08:08:24 -0400 (Thu, 17 Oct 2024) EndedAt: 2024-10-17 08:10:37 -0400 (Thu, 17 Oct 2024) EllapsedTime: 133.0 seconds RetCode: 0 Status: OK PackageFile: miloR_2.0.0.zip PackageFileSize: 5.829 MiB