Package: miloR Version: 2.0.0 Command: /Library/Frameworks/R.framework/Resources/bin/R CMD INSTALL miloR StartedAt: 2024-10-16 16:35:21 -0400 (Wed, 16 Oct 2024) EndedAt: 2024-10-16 16:39:21 -0400 (Wed, 16 Oct 2024) EllapsedTime: 239.6 seconds RetCode: 0 Status: OK