Package: miloR Version: 2.0.0 Command: /Library/Frameworks/R.framework/Resources/bin/R CMD build --keep-empty-dirs --no-resave-data miloR StartedAt: 2024-10-16 20:54:21 -0400 (Wed, 16 Oct 2024) EndedAt: 2024-10-16 21:34:21 -0400 (Wed, 16 Oct 2024) EllapsedTime: 2400.7 seconds RetCode: None Status: TIMEOUT PackageFile: None PackageFileSize: NA