Package: miloR Version: 2.0.0 Command: /Library/Frameworks/R.framework/Resources/bin/R CMD check --install=check:miloR.install-out.txt --library=/Library/Frameworks/R.framework/Resources/library --no-vignettes --timings miloR_2.0.0.tar.gz StartedAt: 2024-06-09 21:31:27 -0400 (Sun, 09 Jun 2024) EndedAt: 2024-06-09 21:40:52 -0400 (Sun, 09 Jun 2024) EllapsedTime: 565.4 seconds RetCode: 0 Status: OK CheckDir: miloR.Rcheck Warnings: 0