Package: miloR Version: 2.0.0 Command: rm -rf miloR.buildbin-libdir && mkdir miloR.buildbin-libdir && /Users/biocbuild/BBS/utils/build-universal.sh miloR_2.0.0.tar.gz /Library/Frameworks/R.framework/Resources/bin/R miloR.buildbin-libdir StartedAt: 2024-06-11 12:03:36 -0400 (Tue, 11 Jun 2024) EndedAt: 2024-06-11 12:07:08 -0400 (Tue, 11 Jun 2024) EllapsedTime: 212.1 seconds RetCode: 0 Status: OK PackageFile: miloR_2.0.0.tgz PackageFileSize: 6.909 MiB