Package: midasHLA Version: 1.12.0 Command: /Library/Frameworks/R.framework/Resources/bin/R CMD check --install=check:midasHLA.install-out.txt --library=/Library/Frameworks/R.framework/Resources/library --no-vignettes --timings midasHLA_1.12.0.tar.gz StartedAt: 2024-06-09 21:31:24 -0400 (Sun, 09 Jun 2024) EndedAt: 2024-06-09 21:37:01 -0400 (Sun, 09 Jun 2024) EllapsedTime: 336.6 seconds RetCode: 0 Status: WARNINGS CheckDir: midasHLA.Rcheck Warnings: 1