Package: midasHLA Version: 1.12.0 Command: /Library/Frameworks/R.framework/Resources/bin/R CMD build --keep-empty-dirs --no-resave-data midasHLA StartedAt: 2024-06-09 17:16:16 -0400 (Sun, 09 Jun 2024) EndedAt: 2024-06-09 17:18:48 -0400 (Sun, 09 Jun 2024) EllapsedTime: 152.2 seconds RetCode: 0 Status: OK PackageFile: midasHLA_1.12.0.tar.gz PackageFileSize: 1.895 MiB