Package: midasHLA Version: 1.12.0 Command: rm -rf midasHLA.buildbin-libdir && mkdir midasHLA.buildbin-libdir && /Users/biocbuild/BBS/utils/build-universal.sh midasHLA_1.12.0.tar.gz /Library/Frameworks/R.framework/Resources/bin/R midasHLA.buildbin-libdir StartedAt: 2024-06-11 12:03:32 -0400 (Tue, 11 Jun 2024) EndedAt: 2024-06-11 12:04:41 -0400 (Tue, 11 Jun 2024) EllapsedTime: 69.8 seconds RetCode: 0 Status: OK PackageFile: midasHLA_1.12.0.tgz PackageFileSize: 2.826 MiB