Package: microbiomeMarker Version: 1.10.0 Command: rm -rf microbiomeMarker.buildbin-libdir && mkdir microbiomeMarker.buildbin-libdir && F:\biocbuild\bbs-3.19-bioc\R\bin\R.exe CMD INSTALL --build --library=microbiomeMarker.buildbin-libdir microbiomeMarker_1.10.0.tar.gz StartedAt: 2024-06-27 08:30:22 -0400 (Thu, 27 Jun 2024) EndedAt: 2024-06-27 08:31:46 -0400 (Thu, 27 Jun 2024) EllapsedTime: 84.5 seconds RetCode: 0 Status: OK PackageFile: microbiomeMarker_1.10.0.zip PackageFileSize: 2.87 MiB