Package: microbiomeMarker Version: 1.10.0 Command: /Library/Frameworks/R.framework/Resources/bin/R CMD check --install=check:microbiomeMarker.install-out.txt --library=/Library/Frameworks/R.framework/Resources/library --no-vignettes --timings microbiomeMarker_1.10.0.tar.gz StartedAt: 2024-10-17 08:27:56 -0400 (Thu, 17 Oct 2024) EndedAt: 2024-10-17 09:07:57 -0400 (Thu, 17 Oct 2024) EllapsedTime: 2400.7 seconds RetCode: None Status: TIMEOUT CheckDir: microbiomeMarker.Rcheck Warnings: NA