############################################################################## ############################################################################## ### ### Running command: ### ### /Library/Frameworks/R.framework/Resources/bin/R CMD check --install=check:microbiomeMarker.install-out.txt --library=/Library/Frameworks/R.framework/Resources/library --no-vignettes --timings microbiomeMarker_1.10.0.tar.gz ### ############################################################################## ############################################################################## * using log directory ‘/Users/biocbuild/bbs-3.19-bioc/meat/microbiomeMarker.Rcheck’ * using R version 4.4.1 (2024-06-14) * using platform: x86_64-apple-darwin20 * R was compiled by Apple clang version 14.0.0 (clang-1400.0.29.202) GNU Fortran (GCC) 12.2.0 * running under: macOS Monterey 12.7.6 * using session charset: UTF-8 * using option ‘--no-vignettes’ * checking for file ‘microbiomeMarker/DESCRIPTION’ ... OK * this is package ‘microbiomeMarker’ version ‘1.10.0’ * package encoding: UTF-8 * checking package namespace information ... OK * checking package dependencies ... OK * checking if this is a source package ... OK * checking if there is a namespace ... OK * checking for hidden files and directories ... OK * checking for portable file names ... OK * checking for sufficient/correct file permissions ... OK * checking whether package ‘microbiomeMarker’ can be installed ... OK * checking installed package size ... OK * checking package directory ... OK * checking ‘build’ directory ... OK * checking DESCRIPTION meta-information ... OK * checking top-level files ... OK * checking for left-over files ... OK * checking index information ... OK * checking package subdirectories ... OK * checking code files for non-ASCII characters ... OK * checking R files for syntax errors ... OK * checking whether the package can be loaded ... OK * checking whether the package can be loaded with stated dependencies ... OK * checking whether the package can be unloaded cleanly ... OK * checking whether the namespace can be loaded with stated dependencies ... OK * checking whether the namespace can be unloaded cleanly ... OK * checking dependencies in R code ... OK * checking S3 generic/method consistency ... OK * checking replacement functions ... OK * checking foreign function calls ... OK * checking R code for possible problems ... OK * checking Rd files ... OK * checking Rd metadata ... OK * checking Rd cross-references ... OK * checking for missing documentation entries ... OK * checking for code/documentation mismatches ... OK * checking Rd \usage sections ... OK * checking Rd contents ... OK * checking for unstated dependencies in examples ... OK * checking contents of ‘data’ directory ... OK * checking data for non-ASCII characters ... OK * checking data for ASCII and uncompressed saves ... OK * checking R/sysdata.rda ... OK * checking files in ‘vignettes’ ... OK * checking examples ... OK Examples with CPU (user + system) or elapsed time > 5s user system elapsed run_ancombc 50.186 0.477 61.409 run_aldex 22.710 2.397 55.028 plot_cladogram 20.826 0.295 25.818 plot_heatmap 14.206 0.181 18.869 run_deseq2 14.057 0.166 18.482 run_lefse 13.265 0.192 16.051 plot_abundance 12.048 0.096 14.645 plot_sl_roc 10.603 0.229 13.205 run_metagenomeseq 9.008 0.132 12.694 run_test_multiple_groups 8.540 0.090 11.276 run_test_two_groups 8.512 0.096 11.533 effect_size-plot 7.765 0.079 9.501 assign-marker_table 7.612 0.228 10.136 run_simple_stat 7.667 0.079 9.956 subset_marker 7.328 0.073 9.764 run_limma_voom 7.294 0.071 9.203 run_edger 7.265 0.079 9.499 marker_table-methods 7.243 0.056 9.008 run_sl 4.416 0.056 5.596 confounder 3.944 0.050 5.003 * checking for unstated dependencies in ‘tests’ ... OK * checking tests ... Running ‘testthat.R’ ERROR Running the tests in ‘tests/testthat.R’ failed. Last 13 lines of output: 46OTUs were removed because they are no longer present in any sample after random subsampling ... Default value being used. Default value being used. Default value being used. Default value being used. converting counts to integer mode Loading required package: ggplot2 Loading required package: lattice Error in source_file(path, env = env(env), desc = desc, error_call = error_call) : file.exists(path) is not TRUE Calls: test_check ... doTryCatch -> lapply -> FUN -> source_file -> stopifnot Execution halted Error in pkgVignettes(dir = pkgdir) : directory '/Users/biocbuild/bbs-3.19-bioc/meat/microbiomeMarker.Rcheck/00_pkg_src/microbiomeMarker' does not exist Execution halted