Package: microbiomeMarker Version: 1.10.0 Command: /Library/Frameworks/R.framework/Resources/bin/R CMD build --keep-empty-dirs --no-resave-data microbiomeMarker StartedAt: 2024-10-16 20:52:34 -0400 (Wed, 16 Oct 2024) EndedAt: 2024-10-16 21:01:06 -0400 (Wed, 16 Oct 2024) EllapsedTime: 511.3 seconds RetCode: 0 Status: OK PackageFile: microbiomeMarker_1.10.0.tar.gz PackageFileSize: 3.01 MiB