Package: microbiomeMarker Version: 1.10.0 Command: rm -rf microbiomeMarker.buildbin-libdir && mkdir microbiomeMarker.buildbin-libdir && /Users/biocbuild/BBS/utils/build-universal.sh microbiomeMarker_1.10.0.tar.gz /Library/Frameworks/R.framework/Resources/bin/R microbiomeMarker.buildbin-libdir StartedAt: 2024-10-17 16:35:35 -0400 (Thu, 17 Oct 2024) EndedAt: 2024-10-17 16:38:10 -0400 (Thu, 17 Oct 2024) EllapsedTime: 155.3 seconds RetCode: 0 Status: OK PackageFile: microbiomeMarker_1.10.0.tgz PackageFileSize: 3.783 MiB