Package: microbiomeMarker Version: 1.10.0 Command: /Library/Frameworks/R.framework/Resources/bin/R CMD build --keep-empty-dirs --no-resave-data microbiomeMarker StartedAt: 2024-06-10 00:34:06 -0400 (Mon, 10 Jun 2024) EndedAt: 2024-06-10 00:38:05 -0400 (Mon, 10 Jun 2024) EllapsedTime: 239.7 seconds RetCode: 0 Status: OK PackageFile: microbiomeMarker_1.10.0.tar.gz PackageFileSize: 3.009 MiB