Package: microbiomeMarker Version: 1.10.0 Command: /Library/Frameworks/R.framework/Resources/bin/R CMD build --keep-empty-dirs --no-resave-data microbiomeMarker StartedAt: 2024-10-17 04:24:24 -0400 (Thu, 17 Oct 2024) EndedAt: 2024-10-17 04:27:26 -0400 (Thu, 17 Oct 2024) EllapsedTime: 181.6 seconds RetCode: 0 Status: OK PackageFile: microbiomeMarker_1.10.0.tar.gz PackageFileSize: 3.007 MiB