Package: microbiomeExplorer Version: 1.14.0 Command: E:\biocbuild\bbs-3.19-bioc\R\bin\R.exe CMD check --no-multiarch --install=check:microbiomeExplorer.install-out.txt --library=E:\biocbuild\bbs-3.19-bioc\R\library --no-vignettes --timings microbiomeExplorer_1.14.0.tar.gz StartedAt: 2024-10-17 03:18:47 -0400 (Thu, 17 Oct 2024) EndedAt: 2024-10-17 03:21:17 -0400 (Thu, 17 Oct 2024) EllapsedTime: 149.5 seconds RetCode: 0 Status: OK CheckDir: microbiomeExplorer.Rcheck Warnings: 0