Package: microbiomeExplorer Version: 1.14.0 Command: /home/biocbuild/bbs-3.19-bioc/R/bin/R CMD build --keep-empty-dirs --no-resave-data microbiomeExplorer StartedAt: 2024-10-16 19:27:46 -0400 (Wed, 16 Oct 2024) EndedAt: 2024-10-16 19:28:21 -0400 (Wed, 16 Oct 2024) EllapsedTime: 35.1 seconds RetCode: 0 Status: OK PackageFile: microbiomeExplorer_1.14.0.tar.gz PackageFileSize: 2.976 MiB