Package: microbiomeExplorer Version: 1.14.0 Command: rm -rf microbiomeExplorer.buildbin-libdir && mkdir microbiomeExplorer.buildbin-libdir && /Users/biocbuild/BBS/utils/build-universal.sh microbiomeExplorer_1.14.0.tar.gz /Library/Frameworks/R.framework/Resources/bin/R microbiomeExplorer.buildbin-libdir StartedAt: 2024-10-17 16:35:34 -0400 (Thu, 17 Oct 2024) EndedAt: 2024-10-17 16:36:14 -0400 (Thu, 17 Oct 2024) EllapsedTime: 39.6 seconds RetCode: 0 Status: OK PackageFile: microbiomeExplorer_1.14.0.tgz PackageFileSize: 3.41 MiB