Package: microbiomeExplorer Version: 1.14.0 Command: /home/biocbuild/R/R-beta-2024-04-15_r86425/bin/R CMD build --keep-empty-dirs --no-resave-data microbiomeExplorer StartedAt: 2024-05-09 01:37:44 -0000 (Thu, 09 May 2024) EndedAt: 2024-05-09 01:38:33 -0000 (Thu, 09 May 2024) EllapsedTime: 49.1 seconds RetCode: 0 Status: OK PackageFile: microbiomeExplorer_1.14.0.tar.gz PackageFileSize: 3.56 MiB