Package: microbiomeExplorer Version: 1.14.0 Command: /Library/Frameworks/R.framework/Resources/bin/R CMD INSTALL microbiomeExplorer StartedAt: 2024-06-09 17:16:40 -0400 (Sun, 09 Jun 2024) EndedAt: 2024-06-09 17:17:00 -0400 (Sun, 09 Jun 2024) EllapsedTime: 20.3 seconds RetCode: 0 Status: OK