Package: microbiomeExplorer Version: 1.14.0 Maintainer: Janina Reeder MaintainerEmail: reederj1 at gene.com git_url: https://git.bioconductor.org/packages/microbiomeExplorer git_branch: RELEASE_3_19 git_last_commit: ac0e1dc git_last_commit_date: 2024-04-30 11:28:04 -0400 (Tue, 30 Apr 2024)