Package: microbiomeDASim Version: 1.18.0 Command: F:\biocbuild\bbs-3.19-bioc\R\bin\R.exe CMD INSTALL microbiomeDASim StartedAt: 2024-06-26 16:37:31 -0400 (Wed, 26 Jun 2024) EndedAt: 2024-06-26 16:37:59 -0400 (Wed, 26 Jun 2024) EllapsedTime: 28.9 seconds RetCode: 0 Status: OK