Package: microbiomeDASim Version: 1.18.0 Command: /Library/Frameworks/R.framework/Resources/bin/R CMD build --keep-empty-dirs --no-resave-data microbiomeDASim StartedAt: 2024-10-17 04:23:23 -0400 (Thu, 17 Oct 2024) EndedAt: 2024-10-17 04:24:24 -0400 (Thu, 17 Oct 2024) EllapsedTime: 61.6 seconds RetCode: 0 Status: OK PackageFile: microbiomeDASim_1.18.0.tar.gz PackageFileSize: 1.498 MiB